Package: blima Version: 1.41.0 Command: /home/biocbuild/bbs-3.21-bioc/R/bin/R CMD check --install=check:blima.install-out.txt --library=/home/biocbuild/bbs-3.21-bioc/R/site-library --timings blima_1.41.0.tar.gz StartedAt: 2025-02-20 20:23:54 -0500 (Thu, 20 Feb 2025) EndedAt: 2025-02-20 20:30:09 -0500 (Thu, 20 Feb 2025) EllapsedTime: 374.5 seconds RetCode: 0 Status: OK CheckDir: blima.Rcheck Warnings: 0