Package: blima Version: 1.41.0 Command: /Library/Frameworks/R.framework/Resources/bin/R CMD check --install=check:blima.install-out.txt --library=/Library/Frameworks/R.framework/Resources/library --no-vignettes --timings blima_1.41.0.tar.gz StartedAt: 2025-02-20 19:11:13 -0500 (Thu, 20 Feb 2025) EndedAt: 2025-02-20 19:14:23 -0500 (Thu, 20 Feb 2025) EllapsedTime: 190.1 seconds RetCode: 0 Status: OK CheckDir: blima.Rcheck Warnings: 0