Package: blima Version: 1.41.0 Command: rm -rf blima.buildbin-libdir && mkdir blima.buildbin-libdir && /Users/biocbuild/BBS/utils/build-universal.sh blima_1.41.0.tar.gz /Library/Frameworks/R.framework/Resources/bin/R blima.buildbin-libdir StartedAt: 2025-02-21 00:21:31 -0500 (Fri, 21 Feb 2025) EndedAt: 2025-02-21 00:22:04 -0500 (Fri, 21 Feb 2025) EllapsedTime: 33.5 seconds RetCode: 0 Status: OK PackageFile: blima_1.41.0.tgz PackageFileSize: 422.7 KiB