Package: blima Version: 1.41.0 Command: /Library/Frameworks/R.framework/Resources/bin/R CMD build --keep-empty-dirs --no-resave-data blima StartedAt: 2025-02-20 15:44:02 -0500 (Thu, 20 Feb 2025) EndedAt: 2025-02-20 15:45:45 -0500 (Thu, 20 Feb 2025) EllapsedTime: 103.1 seconds RetCode: 0 Status: OK PackageFile: blima_1.41.0.tar.gz PackageFileSize: 264.5 KiB