Package: blima Version: 1.41.0 Command: rm -rf blima.buildbin-libdir && mkdir blima.buildbin-libdir && /Users/biocbuild/BBS/utils/build-universal.sh blima_1.41.0.tar.gz /Library/Frameworks/R.framework/Resources/bin/R blima.buildbin-libdir StartedAt: 2025-02-20 22:12:00 -0500 (Thu, 20 Feb 2025) EndedAt: 2025-02-20 22:12:12 -0500 (Thu, 20 Feb 2025) EllapsedTime: 11.2 seconds RetCode: 0 Status: OK PackageFile: blima_1.41.0.tgz PackageFileSize: 424.3 KiB