Package: biscuiteer Version: 1.21.0 Command: E:\biocbuild\bbs-3.21-bioc\R\bin\R.exe CMD INSTALL biscuiteer StartedAt: 2025-02-20 16:33:39 -0500 (Thu, 20 Feb 2025) EndedAt: 2025-02-20 16:35:11 -0500 (Thu, 20 Feb 2025) EllapsedTime: 92.5 seconds RetCode: 0 Status: OK