Package: biscuiteer Version: 1.21.0 Command: chmod a+r biscuiteer -R && E:\biocbuild\bbs-3.21-bioc\R\bin\R.exe CMD build --keep-empty-dirs --no-resave-data biscuiteer StartedAt: 2025-02-20 17:35:01 -0500 (Thu, 20 Feb 2025) EndedAt: 2025-02-20 17:38:44 -0500 (Thu, 20 Feb 2025) EllapsedTime: 223.4 seconds RetCode: 0 Status: OK PackageFile: biscuiteer_1.21.0.tar.gz PackageFileSize: 4.762 MiB