Package: biovizBase Version: 1.55.0 Command: /Library/Frameworks/R.framework/Resources/bin/R CMD INSTALL biovizBase StartedAt: 2025-02-20 15:24:50 -0500 (Thu, 20 Feb 2025) EndedAt: 2025-02-20 15:25:50 -0500 (Thu, 20 Feb 2025) EllapsedTime: 59.6 seconds RetCode: 0 Status: OK