Package: biovizBase Version: 1.55.0 Command: /Library/Frameworks/R.framework/Resources/bin/R CMD check --install=check:biovizBase.install-out.txt --library=/Library/Frameworks/R.framework/Resources/library --no-vignettes --timings biovizBase_1.55.0.tar.gz StartedAt: 2025-02-20 19:09:49 -0500 (Thu, 20 Feb 2025) EndedAt: 2025-02-20 19:18:03 -0500 (Thu, 20 Feb 2025) EllapsedTime: 493.4 seconds RetCode: 0 Status: WARNINGS CheckDir: biovizBase.Rcheck Warnings: 2