Package: biovizBase Version: 1.55.0 Command: rm -rf biovizBase.buildbin-libdir && mkdir biovizBase.buildbin-libdir && /Users/biocbuild/BBS/utils/build-universal.sh biovizBase_1.55.0.tar.gz /Library/Frameworks/R.framework/Resources/bin/R biovizBase.buildbin-libdir StartedAt: 2025-02-21 00:21:28 -0500 (Fri, 21 Feb 2025) EndedAt: 2025-02-21 00:22:30 -0500 (Fri, 21 Feb 2025) EllapsedTime: 62.2 seconds RetCode: 0 Status: OK PackageFile: biovizBase_1.55.0.tgz PackageFileSize: 2.738 MiB