Package: biovizBase Version: 1.55.0 Command: /Library/Frameworks/R.framework/Resources/bin/R CMD INSTALL biovizBase StartedAt: 2025-02-19 15:15:54 -0500 (Wed, 19 Feb 2025) EndedAt: 2025-02-19 15:16:12 -0500 (Wed, 19 Feb 2025) EllapsedTime: 17.7 seconds RetCode: 0 Status: OK