Package: biotmle Version: 1.31.0 Command: /home/biocbuild/bbs-3.21-bioc/R/bin/R CMD INSTALL biotmle StartedAt: 2025-02-19 15:35:12 -0500 (Wed, 19 Feb 2025) EndedAt: 2025-02-19 15:35:36 -0500 (Wed, 19 Feb 2025) EllapsedTime: 24.7 seconds RetCode: 0 Status: OK