Package: biosigner Version: 1.35.0 Command: E:\biocbuild\bbs-3.21-bioc\R\bin\R.exe CMD INSTALL biosigner StartedAt: 2025-02-19 16:49:10 -0500 (Wed, 19 Feb 2025) EndedAt: 2025-02-19 16:49:44 -0500 (Wed, 19 Feb 2025) EllapsedTime: 33.8 seconds RetCode: 0 Status: OK