Package: biosigner Version: 1.35.0 Command: /Library/Frameworks/R.framework/Resources/bin/R CMD build --keep-empty-dirs --no-resave-data biosigner StartedAt: 2025-02-18 16:01:29 -0500 (Tue, 18 Feb 2025) EndedAt: 2025-02-18 16:03:55 -0500 (Tue, 18 Feb 2025) EllapsedTime: 145.8 seconds RetCode: 0 Status: OK PackageFile: biosigner_1.35.0.tar.gz PackageFileSize: 4.564 MiB