Package: biosigner Version: 1.35.0 Command: /Library/Frameworks/R.framework/Resources/bin/R CMD INSTALL biosigner StartedAt: 2025-02-18 15:26:43 -0500 (Tue, 18 Feb 2025) EndedAt: 2025-02-18 15:26:54 -0500 (Tue, 18 Feb 2025) EllapsedTime: 10.7 seconds RetCode: 0 Status: OK