Package: biosigner Version: 1.35.0 Command: /Library/Frameworks/R.framework/Resources/bin/R CMD check --install=check:biosigner.install-out.txt --library=/Library/Frameworks/R.framework/Resources/library --no-vignettes --timings biosigner_1.35.0.tar.gz StartedAt: 2025-02-19 18:18:57 -0500 (Wed, 19 Feb 2025) EndedAt: 2025-02-19 18:20:54 -0500 (Wed, 19 Feb 2025) EllapsedTime: 116.5 seconds RetCode: 1 Status: ERROR CheckDir: biosigner.Rcheck Warnings: NA