Package: biomformat Version: 1.35.0 Command: E:\biocbuild\bbs-3.21-bioc\R\bin\R.exe CMD INSTALL biomformat StartedAt: 2025-02-19 15:29:17 -0500 (Wed, 19 Feb 2025) EndedAt: 2025-02-19 15:30:00 -0500 (Wed, 19 Feb 2025) EllapsedTime: 43.5 seconds RetCode: 0 Status: OK