Package: biomformat Version: 1.35.0 Command: rm -rf biomformat.buildbin-libdir && mkdir biomformat.buildbin-libdir && E:\biocbuild\bbs-3.21-bioc\R\bin\R.exe CMD INSTALL --build --library=biomformat.buildbin-libdir biomformat_1.35.0.tar.gz StartedAt: 2025-02-19 07:01:37 -0500 (Wed, 19 Feb 2025) EndedAt: 2025-02-19 07:02:11 -0500 (Wed, 19 Feb 2025) EllapsedTime: 34.2 seconds RetCode: 0 Status: OK PackageFile: biomformat_1.35.0.zip PackageFileSize: 471.4 KiB