Package: biomaRt Version: 2.63.1 Command: /home/biocbuild/bbs-3.21-bioc/R/bin/R CMD build --keep-empty-dirs --no-resave-data biomaRt StartedAt: 2025-02-20 16:40:08 -0500 (Thu, 20 Feb 2025) EndedAt: 2025-02-20 16:41:22 -0500 (Thu, 20 Feb 2025) EllapsedTime: 74.1 seconds RetCode: 0 Status: OK PackageFile: biomaRt_2.63.1.tar.gz PackageFileSize: 843.2 KiB