Package: biomaRt Version: 2.63.1 Command: /Library/Frameworks/R.framework/Resources/bin/R CMD check --install=check:biomaRt.install-out.txt --library=/Library/Frameworks/R.framework/Resources/library --no-vignettes --timings biomaRt_2.63.1.tar.gz StartedAt: 2025-02-20 19:07:45 -0500 (Thu, 20 Feb 2025) EndedAt: 2025-02-20 19:12:30 -0500 (Thu, 20 Feb 2025) EllapsedTime: 285.5 seconds RetCode: 0 Status: OK CheckDir: biomaRt.Rcheck Warnings: 0