Package: biomaRt Version: 2.63.1 Command: /Library/Frameworks/R.framework/Resources/bin/R CMD build --keep-empty-dirs --no-resave-data biomaRt StartedAt: 2025-02-20 16:01:24 -0500 (Thu, 20 Feb 2025) EndedAt: 2025-02-20 16:02:53 -0500 (Thu, 20 Feb 2025) EllapsedTime: 89.1 seconds RetCode: 0 Status: OK PackageFile: biomaRt_2.63.1.tar.gz PackageFileSize: 843.1 KiB