Package: biomaRt Version: 2.63.1 Command: rm -rf biomaRt.buildbin-libdir && mkdir biomaRt.buildbin-libdir && /Users/biocbuild/BBS/utils/build-universal.sh biomaRt_2.63.1.tar.gz /Library/Frameworks/R.framework/Resources/bin/R biomaRt.buildbin-libdir StartedAt: 2025-02-21 00:21:18 -0500 (Fri, 21 Feb 2025) EndedAt: 2025-02-21 00:21:43 -0500 (Fri, 21 Feb 2025) EllapsedTime: 25.5 seconds RetCode: 0 Status: OK PackageFile: biomaRt_2.63.1.tgz PackageFileSize: 929.6 KiB