Package: biomaRt Version: 2.63.0 Command: /home/biocbuild/R/R/bin/R CMD check --install=check:biomaRt.install-out.txt --library=/home/biocbuild/R/R/site-library --no-vignettes --timings biomaRt_2.63.0.tar.gz StartedAt: 2025-01-28 03:56:29 -0000 (Tue, 28 Jan 2025) EndedAt: 2025-01-28 08:30:03 -0000 (Tue, 28 Jan 2025) EllapsedTime: 16413.8 seconds RetCode: None Status: TIMEOUT CheckDir: biomaRt.Rcheck Warnings: NA