Package: biomaRt Version: 2.63.1 Command: /Library/Frameworks/R.framework/Resources/bin/R CMD INSTALL biomaRt StartedAt: 2025-02-20 15:13:09 -0500 (Thu, 20 Feb 2025) EndedAt: 2025-02-20 15:13:16 -0500 (Thu, 20 Feb 2025) EllapsedTime: 7.4 seconds RetCode: 0 Status: OK