Package: biodbUniprot Version: 1.13.0 Command: E:\biocbuild\bbs-3.21-bioc\R\bin\R.exe CMD INSTALL biodbUniprot StartedAt: 2025-02-17 15:56:47 -0500 (Mon, 17 Feb 2025) EndedAt: 2025-02-17 15:57:06 -0500 (Mon, 17 Feb 2025) EllapsedTime: 19.2 seconds RetCode: 0 Status: OK