Package: biodbUniprot Version: 1.13.0 Command: chmod a+r biodbUniprot -R && E:\biocbuild\bbs-3.21-bioc\R\bin\R.exe CMD build --keep-empty-dirs --no-resave-data biodbUniprot StartedAt: 2025-02-17 17:26:50 -0500 (Mon, 17 Feb 2025) EndedAt: 2025-02-17 17:27:40 -0500 (Mon, 17 Feb 2025) EllapsedTime: 50.0 seconds RetCode: 0 Status: OK PackageFile: biodbUniprot_1.13.0.tar.gz PackageFileSize: 411 KiB