Package: biodbUniprot Version: 1.13.0 Command: /home/biocbuild/bbs-3.21-bioc/R/bin/R CMD INSTALL biodbUniprot StartedAt: 2025-02-17 15:11:12 -0500 (Mon, 17 Feb 2025) EndedAt: 2025-02-17 15:11:19 -0500 (Mon, 17 Feb 2025) EllapsedTime: 6.8 seconds RetCode: 0 Status: OK