Package: biodbUniprot Version: 1.13.0 Command: /Library/Frameworks/R.framework/Resources/bin/R CMD INSTALL biodbUniprot StartedAt: 2025-02-17 15:19:16 -0500 (Mon, 17 Feb 2025) EndedAt: 2025-02-17 15:19:19 -0500 (Mon, 17 Feb 2025) EllapsedTime: 3.4 seconds RetCode: 0 Status: OK