Package: biodbUniprot Version: 1.13.0 Command: /Library/Frameworks/R.framework/Resources/bin/R CMD build --keep-empty-dirs --no-resave-data biodbUniprot StartedAt: 2025-02-17 15:42:02 -0500 (Mon, 17 Feb 2025) EndedAt: 2025-02-17 15:42:24 -0500 (Mon, 17 Feb 2025) EllapsedTime: 22.2 seconds RetCode: 0 Status: OK PackageFile: biodbUniprot_1.13.0.tar.gz PackageFileSize: 410.9 KiB