Package: biodbNci Version: 1.11.0 Command: /Library/Frameworks/R.framework/Resources/bin/R CMD INSTALL biodbNci StartedAt: 2025-02-17 15:30:04 -0500 (Mon, 17 Feb 2025) EndedAt: 2025-02-17 15:30:39 -0500 (Mon, 17 Feb 2025) EllapsedTime: 35.2 seconds RetCode: 0 Status: OK