Package: biodbNci Version: 1.11.0 Command: /Library/Frameworks/R.framework/Resources/bin/R CMD check --install=check:biodbNci.install-out.txt --library=/Library/Frameworks/R.framework/Resources/library --no-vignettes --timings biodbNci_1.11.0.tar.gz StartedAt: 2025-02-17 19:05:07 -0500 (Mon, 17 Feb 2025) EndedAt: 2025-02-17 19:45:08 -0500 (Mon, 17 Feb 2025) EllapsedTime: 2400.1 seconds RetCode: None Status: TIMEOUT CheckDir: biodbNci.Rcheck Warnings: NA