Package: biodbNci Version: 1.11.0 Command: /Library/Frameworks/R.framework/Resources/bin/R CMD INSTALL biodbNci StartedAt: 2025-02-17 15:19:12 -0500 (Mon, 17 Feb 2025) EndedAt: 2025-02-17 15:19:21 -0500 (Mon, 17 Feb 2025) EllapsedTime: 9.4 seconds RetCode: 0 Status: OK