Package: biodbHmdb Version: 1.13.0 Command: /home/biocbuild/bbs-3.21-bioc/R/bin/R CMD INSTALL biodbHmdb StartedAt: 2025-02-21 15:53:35 -0500 (Fri, 21 Feb 2025) EndedAt: 2025-02-21 15:54:11 -0500 (Fri, 21 Feb 2025) EllapsedTime: 35.7 seconds RetCode: 0 Status: OK