Package: biodbHmdb Version: 1.13.0 Command: rm -rf biodbHmdb.buildbin-libdir && mkdir biodbHmdb.buildbin-libdir && /Users/biocbuild/BBS/utils/build-universal.sh biodbHmdb_1.13.0.tar.gz /Library/Frameworks/R.framework/Resources/bin/R biodbHmdb.buildbin-libdir StartedAt: 2025-02-22 00:22:16 -0500 (Sat, 22 Feb 2025) EndedAt: 2025-02-22 00:23:04 -0500 (Sat, 22 Feb 2025) EllapsedTime: 48.5 seconds RetCode: 0 Status: OK PackageFile: biodbHmdb_1.13.0.tgz PackageFileSize: 695.1 KiB