Package: biodbExpasy Version: 1.9.1 Command: /home/biocbuild/bbs-3.21-bioc/R/bin/R CMD build --keep-empty-dirs --no-resave-data biodbExpasy StartedAt: 2024-10-24 03:43:01 -0400 (Thu, 24 Oct 2024) EndedAt: 2024-10-24 03:43:22 -0400 (Thu, 24 Oct 2024) EllapsedTime: 21.0 seconds RetCode: 0 Status: OK PackageFile: biodbExpasy_1.9.1.tar.gz PackageFileSize: 304.1 KiB