Package: biodbChebi Version: 1.13.0 Command: E:\biocbuild\bbs-3.21-bioc\R\bin\R.exe CMD check --no-multiarch --install=check:biodbChebi.install-out.txt --library=E:\biocbuild\bbs-3.21-bioc\R\library --no-vignettes --timings biodbChebi_1.13.0.tar.gz StartedAt: 2025-02-19 23:01:49 -0500 (Wed, 19 Feb 2025) EndedAt: 2025-02-19 23:06:59 -0500 (Wed, 19 Feb 2025) EllapsedTime: 310.6 seconds RetCode: 1 Status: ERROR CheckDir: biodbChebi.Rcheck Warnings: NA