Package: biodbChebi Version: 1.13.0 Command: chmod a+r biodbChebi -R && E:\biocbuild\bbs-3.21-bioc\R\bin\R.exe CMD build --keep-empty-dirs --no-resave-data biodbChebi StartedAt: 2025-02-19 17:31:31 -0500 (Wed, 19 Feb 2025) EndedAt: 2025-02-19 17:32:10 -0500 (Wed, 19 Feb 2025) EllapsedTime: 39.5 seconds RetCode: 0 Status: OK PackageFile: biodbChebi_1.13.0.tar.gz PackageFileSize: 312 KiB