Package: biodbChebi Version: 1.13.0 Command: rm -rf biodbChebi.buildbin-libdir && mkdir biodbChebi.buildbin-libdir && /Users/biocbuild/BBS/utils/build-universal.sh biodbChebi_1.13.0.tar.gz /Library/Frameworks/R.framework/Resources/bin/R biodbChebi.buildbin-libdir StartedAt: 2025-02-20 00:22:33 -0500 (Thu, 20 Feb 2025) EndedAt: 2025-02-20 00:22:46 -0500 (Thu, 20 Feb 2025) EllapsedTime: 12.9 seconds RetCode: 0 Status: OK PackageFile: biodbChebi_1.13.0.tgz PackageFileSize: 403.9 KiB