Package: biodbChebi Version: 1.13.0 Command: /Library/Frameworks/R.framework/Resources/bin/R CMD build --keep-empty-dirs --no-resave-data biodbChebi StartedAt: 2025-02-20 15:41:51 -0500 (Thu, 20 Feb 2025) EndedAt: 2025-02-20 15:42:21 -0500 (Thu, 20 Feb 2025) EllapsedTime: 30.3 seconds RetCode: 0 Status: OK PackageFile: biodbChebi_1.13.0.tar.gz PackageFileSize: 312.3 KiB