Package: biodb Version: 1.15.0 Command: E:\biocbuild\bbs-3.21-bioc\R\bin\R.exe CMD check --no-multiarch --install=check:biodb.install-out.txt --library=E:\biocbuild\bbs-3.21-bioc\R\library --no-vignettes --timings biodb_1.15.0.tar.gz StartedAt: 2025-02-17 22:53:01 -0500 (Mon, 17 Feb 2025) EndedAt: 2025-02-17 23:02:07 -0500 (Mon, 17 Feb 2025) EllapsedTime: 546.4 seconds RetCode: 0 Status: WARNINGS CheckDir: biodb.Rcheck Warnings: 1