Package: biodb Version: 1.15.0 Command: /Library/Frameworks/R.framework/Resources/bin/R CMD build --keep-empty-dirs --no-resave-data biodb StartedAt: 2025-02-19 15:41:55 -0500 (Wed, 19 Feb 2025) EndedAt: 2025-02-19 15:42:37 -0500 (Wed, 19 Feb 2025) EllapsedTime: 42.5 seconds RetCode: 0 Status: OK PackageFile: biodb_1.15.0.tar.gz PackageFileSize: 1.81 MiB