Package: biocthis Version: 1.17.0 Command: rm -rf biocthis.buildbin-libdir && mkdir biocthis.buildbin-libdir && E:\biocbuild\bbs-3.21-bioc\R\bin\R.exe CMD INSTALL --build --library=biocthis.buildbin-libdir biocthis_1.17.0.tar.gz StartedAt: 2025-02-21 07:39:20 -0500 (Fri, 21 Feb 2025) EndedAt: 2025-02-21 07:39:43 -0500 (Fri, 21 Feb 2025) EllapsedTime: 23.2 seconds RetCode: 0 Status: OK PackageFile: biocthis_1.17.0.zip PackageFileSize: 713.7 KiB