Package: biocthis Version: 1.17.0 Command: /Library/Frameworks/R.framework/Resources/bin/R CMD check --install=check:biocthis.install-out.txt --library=/Library/Frameworks/R.framework/Resources/library --no-vignettes --timings biocthis_1.17.0.tar.gz StartedAt: 2025-02-20 19:06:34 -0500 (Thu, 20 Feb 2025) EndedAt: 2025-02-20 19:07:20 -0500 (Thu, 20 Feb 2025) EllapsedTime: 46.1 seconds RetCode: 0 Status: OK CheckDir: biocthis.Rcheck Warnings: 0