Package: biocroxytest Version: 1.3.0 Command: E:\biocbuild\bbs-3.21-bioc\R\bin\R.exe CMD INSTALL biocroxytest StartedAt: 2025-02-20 15:25:38 -0500 (Thu, 20 Feb 2025) EndedAt: 2025-02-20 15:25:54 -0500 (Thu, 20 Feb 2025) EllapsedTime: 15.7 seconds RetCode: 0 Status: OK