Package: biocroxytest Version: 1.3.0 Command: E:\biocbuild\bbs-3.21-bioc\R\bin\R.exe CMD check --no-multiarch --install=check:biocroxytest.install-out.txt --library=E:\biocbuild\bbs-3.21-bioc\R\library --no-vignettes --timings biocroxytest_1.3.0.tar.gz StartedAt: 2025-02-20 23:11:21 -0500 (Thu, 20 Feb 2025) EndedAt: 2025-02-20 23:12:01 -0500 (Thu, 20 Feb 2025) EllapsedTime: 40.2 seconds RetCode: 0 Status: OK CheckDir: biocroxytest.Rcheck Warnings: 0