Package: biocroxytest Version: 1.3.0 Command: /home/biocbuild/bbs-3.21-bioc/R/bin/R CMD INSTALL biocroxytest StartedAt: 2025-02-21 15:50:11 -0500 (Fri, 21 Feb 2025) EndedAt: 2025-02-21 15:50:29 -0500 (Fri, 21 Feb 2025) EllapsedTime: 17.8 seconds RetCode: 0 Status: OK