Package: biocroxytest Version: 1.3.0 Command: /Library/Frameworks/R.framework/Resources/bin/R CMD INSTALL biocroxytest StartedAt: 2025-02-21 15:03:23 -0500 (Fri, 21 Feb 2025) EndedAt: 2025-02-21 15:03:31 -0500 (Fri, 21 Feb 2025) EllapsedTime: 7.7 seconds RetCode: 0 Status: OK