Package: biocroxytest Version: 1.3.0 Command: /Library/Frameworks/R.framework/Resources/bin/R CMD build --keep-empty-dirs --no-resave-data biocroxytest StartedAt: 2025-02-21 15:41:07 -0500 (Fri, 21 Feb 2025) EndedAt: 2025-02-21 15:41:10 -0500 (Fri, 21 Feb 2025) EllapsedTime: 3.0 seconds RetCode: 0 Status: OK PackageFile: biocroxytest_1.3.0.tar.gz PackageFileSize: 2.493 MiB