Package: biocmake Version: 0.99.0 Command: chmod a+r biocmake -R && E:\biocbuild\bbs-3.21-bioc\R\bin\R.exe CMD build --keep-empty-dirs --no-resave-data biocmake StartedAt: 2025-02-19 17:30:15 -0500 (Wed, 19 Feb 2025) EndedAt: 2025-02-19 17:30:56 -0500 (Wed, 19 Feb 2025) EllapsedTime: 40.0 seconds RetCode: 0 Status: OK PackageFile: biocmake_0.99.0.tar.gz PackageFileSize: 222.7 KiB