Package: biocmake Version: 0.99.0 Command: /Library/Frameworks/R.framework/Resources/bin/R CMD check --install=check:biocmake.install-out.txt --library=/Library/Frameworks/R.framework/Resources/library --no-vignettes --timings biocmake_0.99.0.tar.gz StartedAt: 2025-02-20 19:05:21 -0500 (Thu, 20 Feb 2025) EndedAt: 2025-02-20 19:06:05 -0500 (Thu, 20 Feb 2025) EllapsedTime: 43.9 seconds RetCode: 0 Status: OK CheckDir: biocmake.Rcheck Warnings: 0